Workbook
Name Ursprung: #REF!
Name view: #REF!

Sheet Privathaushalte
A7: =VLOOKUP("<Fachbereich>",Uebersetzungen!$B$3:$E$100,Uebersetzungen!$B$2+1,FALSE) -> Daten & Statistik
A9: =VLOOKUP("<Titel>",Uebersetzungen!$B$3:$E$39,Uebersetzungen!$B$2+1,FALSE) -> Privathaushalte in Bündner Gemeinden und Regionen nach Haushaltsgrösse
A10: =VLOOKUP("<UTitel>",Uebersetzungen!$B$3:$E$100,Uebersetzungen!$B$2+1,FALSE) -> (Gemeindestand 2025: 100 Gemeinden)
B13: 46022
B14: =VLOOKUP("<SpaltenTitel_1>",Uebersetzungen!$B$3:$E$37,Uebersetzungen!$B$2+1,FALSE) -> Total | C14: =VLOOKUP("<SpaltenTitel_2>",Uebersetzungen!$B$3:$E$37,Uebersetzungen!$B$2+1,FALSE) -> Anzahl Haushalte mit… | I14: =VLOOKUP("<SpaltenTitel_3>",Uebersetzungen!$B$3:$E$37,Uebersetzungen!$B$2+1,FALSE) -> Durchschnittliche Haushaltsgrösse (Anzahl Personen)
C15: =VLOOKUP("<SpaltenTitel_2.1>",Uebersetzungen!$B$3:$E$37,Uebersetzungen!$B$2+1,FALSE) -> 1 Person | D15: =VLOOKUP("<SpaltenTitel_2.2>",Uebersetzungen!$B$3:$E$37,Uebersetzungen!$B$2+1,FALSE) -> 2 Personen | E15: =VLOOKUP("<SpaltenTitel_2.3>",Uebersetzungen!$B$3:$E$337,Uebersetzungen!$B$2+1,FALSE) -> 3 Personen | F15: =VLOOKUP("<SpaltenTitel_2.4>",Uebersetzungen!$B$3:$E$337,Uebersetzungen!$B$2+1,FALSE) -> 4 Personen | G15: =VLOOKUP("<SpaltenTitel_2.5>",Uebersetzungen!$B$3:$E$337,Uebersetzungen!$B$2+1,FALSE) -> 5 Personen | H15: =VLOOKUP("<SpaltenTitel_2.6>",Uebersetzungen!$B$3:$E$337,Uebersetzungen!$B$2+1,FALSE) -> 6 oder mehr Personen
A17: =VLOOKUP("<Zeilentitel_1>",Uebersetzungen!$B$3:$E$100,Uebersetzungen!$B$2+1,FALSE) -> GRAUBÜNDEN | B17: 98599 | C17: 39635 | D17: 33074 | E17: 11018 | F17: 10753 | G17: 3221 | H17: 898 | I17: 2.06496
A18: =VLOOKUP("<Zeilentitel_2>",Uebersetzungen!$B$3:$E$100,Uebersetzungen!$B$2+1,FALSE) -> Region Albula | B18: 4050 | C18: 1754 | D18: 1394 | E18: 350 | F18: 395 | G18: 129 | H18: 28 | I18: 1.9740741
A19: Vaz/Obervaz | B19: 1366 | C19: 617 | D19: 437 | E19: 119 | F19: 148 | G19: 38 | H19: 7 | I19: 1.9568082
A20: Lantsch/Lenz | B20: 278 | C20: 136 | D20: 84 | E20: 16 | F20: 35 | G20: 6 | H20: Q .. | I20: 1.8992805
A21: Schmitten (GR) | B21: 113 | C21: 55 | D21: 40 | E21: 7 | F21: 6 | G21: 5 | H21: 0 | I21: 1.8141593
A22: Albula/Alvra | B22: 625 | C22: 251 | D22: 218 | E22: 72 | F22: 56 | G22: 20 | H22: 8 | I22: 2.0448
A23: Surses | B23: 1242 | C23: 528 | D23: 461 | E23: 98 | F23: 108 | G23: 39 | H23: 8 | I23: 1.9508857
A24: Bergün Filisur | B24: 426 | C24: 167 | D24: 154 | E24: 38 | F24: 42 | G24: 21 | H24: 4 | I24: 2.084507
A25: =VLOOKUP("<Zeilentitel_3>",Uebersetzungen!$B$3:$E$100,Uebersetzungen!$B$2+1,FALSE) -> Region Bernina | B25: 1999 | C25: 717 | D25: 619 | E25: 268 | F25: 254 | G25: 111 | H25: 30 | I25: 2.262131
A26: Brusio | B26: 472 | C26: 160 | D26: 150 | E26: 70 | F26: 54 | G26: 26 | H26: 12 | I26: 2.3241525
A27: Poschiavo | B27: 1527 | C27: 557 | D27: 469 | E27: 198 | F27: 200 | G27: 85 | H27: 18 | I27: 2.24296
A28: =VLOOKUP("<Zeilentitel_4>",Uebersetzungen!$B$3:$E$100,Uebersetzungen!$B$2+1,FALSE) -> Region Engiadina Bassa/Val Müstair | B28: 4453 | C28: 1810 | D28: 1523 | E28: 492 | F28: 467 | G28: 127 | H28: 34 | I28: 2.031215
A29: Zernez | B29: 754 | C29: 299 | D29: 261 | E29: 81 | F29: 85 | G29: 21 | H29: 7 | I29: 2.0583553
A30: Samnaun | B30: 388 | C30: 182 | D30: 101 | E30: 56 | F30: 40 | G30: 9 | H30: 0 | I30: 1.951031
A31: Scuol | B31: 2222 | C31: 894 | D31: 764 | E31: 240 | F31: 242 | G31: 69 | H31: 13 | I31: 2.040504
A32: Valsot | B32: 385 | C32: 138 | D32: 139 | E32: 53 | F32: 42 | G32: 8 | H32: 5 | I32: 2.1194806
A33: Val Müstair | B33: 704 | C33: 297 | D33: 258 | E33: 62 | F33: 58 | G33: 20 | H33: 9 | I33: 1.96875
A34: =VLOOKUP("<Zeilentitel_5>",Uebersetzungen!$B$3:$E$100,Uebersetzungen!$B$2+1,FALSE) -> Region Imboden | B34: 9912 | C34: 3401 | D34: 3382 | E34: 1237 | F34: 1416 | G34: 364 | H34: 112 | I34: 2.2262914
A35: Bonaduz | B35: 1591 | C35: 549 | D35: 524 | E35: 189 | F35: 244 | G35: 69 | H35: 16 | I35: 2.2532997
A36: Domat/Ems | B36: 3661 | C36: 1195 | D36: 1226 | E36: 518 | F36: 526 | G36: 151 | H36: 45 | I36: 2.2791586
A37: Rhäzüns | B37: 665 | C37: 192 | D37: 231 | E37: 85 | F37: 114 | G37: 35 | H37: 8 | I37: 2.3954887
A38: Felsberg | B38: 1193 | C38: 354 | D38: 398 | E38: 163 | F38: 216 | G38: 40 | H38: 22 | I38: 2.3830678
A39: Flims | B39: 1537 | C39: 684 | D39: 531 | E39: 146 | F39: 144 | G39: 29 | H39: Q .. | I39: 1.9024073
A40: Tamins | B40: 557 | C40: 189 | D40: 211 | E40: 62 | F40: 68 | G40: 15 | H40: 12 | I40: 2.18851
A41: Trin | B41: 708 | C41: 238 | D41: 261 | E41: 74 | F41: 104 | G41: 25 | H41: 6 | I41: 2.2019775
A42: =VLOOKUP("<Zeilentitel_6>",Uebersetzungen!$B$3:$E$100,Uebersetzungen!$B$2+1,FALSE) -> Region Landquart | B42: 12023 | C42: 3991 | D42: 4401 | E42: 1405 | F42: 1627 | G42: 473 | H42: 126 | I42: 2.2181652
A43: Trimmis | B43: 1519 | C43: 491 | D43: 554 | E43: 178 | F43: 230 | G43: 61 | H43: 5 | I43: 2.2310731
A44: Untervaz | B44: 1190 | C44: 392 | D44: 422 | E44: 154 | F44: 174 | G44: 36 | H44: 12 | I44: 2.2243698
A45: Zizers | B45: 1751 | C45: 617 | D45: 642 | E45: 195 | F45: 212 | G45: 64 | H45: 21 | I45: 2.1604798
A46: Fläsch | B46: 411 | C46: 136 | D46: 165 | E46: 37 | F46: 62 | G46: 8 | H46: Q .. | I46: 2.1484184
A47: Jenins | B47: 426 | C47: 124 | D47: 166 | E47: 53 | F47: 60 | G47: 19 | H47: 4 | I47: 2.2887323
A48: Maienfeld | B48: 1558 | C48: 553 | D48: 581 | E48: 176 | F48: 183 | G48: 53 | H48: 12 | I48: 2.1302953
A49: Malans | B49: 1084 | C49: 312 | D49: 418 | E49: 129 | F49: 161 | G49: 50 | H49: 14 | I49: 2.3210332
A50: Landquart | B50: 4084 | C50: 1366 | D50: 1453 | E50: 483 | F50: 545 | G50: 182 | H50: 55 | I50: 2.2421646
...

Sheet Wohnbevölkerung in Privathaush.
A7: =VLOOKUP("<Fachbereich>",Uebersetzungen!$B$3:$E$100,Uebersetzungen!$B$2+1,FALSE) -> Daten & Statistik
A9: =VLOOKUP("<T2Titel>",Uebersetzungen!$B$3:$E$99,Uebersetzungen!$B$2+1,FALSE) -> Ständige Wohnbevölkerung in Privathaushalten nach Haushaltsgrösse
A10: =VLOOKUP("<T2UTitel>",Uebersetzungen!$B$3:$E$100,Uebersetzungen!$B$2+1,FALSE) -> (Gemeindestand 2025: 100 Gemeinden)
B13: 46022
B14: =VLOOKUP("<T2SpaltenTitel_1>",Uebersetzungen!$B$3:$E$337,Uebersetzungen!$B$2+1,FALSE) -> Total | C14: =VLOOKUP("<T2SpaltenTitel_2>",Uebersetzungen!$B$3:$E$337,Uebersetzungen!$B$2+1,FALSE) -> Anzahl Personen in Haushalten mit…
C15: =VLOOKUP("<SpaltenTitel_2.1>",Uebersetzungen!$B$3:$E$37,Uebersetzungen!$B$2+1,FALSE) -> 1 Person | D15: =VLOOKUP("<SpaltenTitel_2.2>",Uebersetzungen!$B$3:$E$37,Uebersetzungen!$B$2+1,FALSE) -> 2 Personen | E15: =VLOOKUP("<SpaltenTitel_2.3>",Uebersetzungen!$B$3:$E$337,Uebersetzungen!$B$2+1,FALSE) -> 3 Personen | F15: =VLOOKUP("<SpaltenTitel_2.4>",Uebersetzungen!$B$3:$E$337,Uebersetzungen!$B$2+1,FALSE) -> 4 Personen | G15: =VLOOKUP("<SpaltenTitel_2.5>",Uebersetzungen!$B$3:$E$337,Uebersetzungen!$B$2+1,FALSE) -> 5 Personen | H15: =VLOOKUP("<SpaltenTitel_2.6>",Uebersetzungen!$B$3:$E$337,Uebersetzungen!$B$2+1,FALSE) -> 6 oder mehr Personen
A17: =VLOOKUP("<Zeilentitel_1>",Uebersetzungen!$B$3:$E$100,Uebersetzungen!$B$2+1,FALSE) -> GRAUBÜNDEN | B17: 203603 | C17: 39635 | D17: 66148 | E17: 33054 | F17: 43012 | G17: 16105 | H17: 5649
A18: =VLOOKUP("<Zeilentitel_2>",Uebersetzungen!$B$3:$E$100,Uebersetzungen!$B$2+1,FALSE) -> Region Albula | B18: 7995 | C18: 1754 | D18: 2788 | E18: 1050 | F18: 1580 | G18: 645 | H18: 178
A19: Vaz/Obervaz | B19: 2673 | C19: 617 | D19: 874 | E19: 357 | F19: 592 | G19: 190 | H19: 43
A20: Lantsch/Lenz | B20: 528 | C20: 136 | D20: 168 | E20: 48 | F20: 140 | G20: 30 | H20: 6
A21: Schmitten (GR) | B21: 205 | C21: 55 | D21: 80 | E21: 21 | F21: 24 | G21: 25 | H21: 0
A22: Albula/Alvra | B22: 1278 | C22: 251 | D22: 436 | E22: 216 | F22: 224 | G22: 100 | H22: 51
A23: Surses | B23: 2423 | C23: 528 | D23: 922 | E23: 294 | F23: 432 | G23: 195 | H23: 52
A24: Bergün Filisur | B24: 888 | C24: 167 | D24: 308 | E24: 114 | F24: 168 | G24: 105 | H24: 26
A25: =VLOOKUP("<Zeilentitel_3>",Uebersetzungen!$B$3:$E$100,Uebersetzungen!$B$2+1,FALSE) -> Region Bernina | B25: 4522 | C25: 717 | D25: 1238 | E25: 804 | F25: 1016 | G25: 555 | H25: 192
A26: Brusio | B26: 1097 | C26: 160 | D26: 300 | E26: 210 | F26: 216 | G26: 130 | H26: 81
A27: Poschiavo | B27: 3425 | C27: 557 | D27: 938 | E27: 594 | F27: 800 | G27: 425 | H27: 111
A28: =VLOOKUP("<Zeilentitel_4>",Uebersetzungen!$B$3:$E$100,Uebersetzungen!$B$2+1,FALSE) -> Region Engiadina Bassa/Val Müstair | B28: 9045 | C28: 1810 | D28: 3046 | E28: 1476 | F28: 1868 | G28: 635 | H28: 210
A29: Zernez | B29: 1552 | C29: 299 | D29: 522 | E29: 243 | F29: 340 | G29: 105 | H29: 43
A30: Samnaun | B30: 757 | C30: 182 | D30: 202 | E30: 168 | F30: 160 | G30: 45 | H30: 0
A31: Scuol | B31: 4534 | C31: 894 | D31: 1528 | E31: 720 | F31: 968 | G31: 345 | H31: 79
A32: Valsot | B32: 816 | C32: 138 | D32: 278 | E32: 159 | F32: 168 | G32: 40 | H32: 33
A33: Val Müstair | B33: 1386 | C33: 297 | D33: 516 | E33: 186 | F33: 232 | G33: 100 | H33: 55
A34: =VLOOKUP("<Zeilentitel_5>",Uebersetzungen!$B$3:$E$100,Uebersetzungen!$B$2+1,FALSE) -> Region Imboden | B34: 22067 | C34: 3401 | D34: 6764 | E34: 3711 | F34: 5664 | G34: 1820 | H34: 707
A35: Bonaduz | B35: 3585 | C35: 549 | D35: 1048 | E35: 567 | F35: 976 | G35: 345 | H35: 100
A36: Domat/Ems | B36: 8344 | C36: 1195 | D36: 2452 | E36: 1554 | F36: 2104 | G36: 755 | H36: 284
A37: Rhäzüns | B37: 1593 | C37: 192 | D37: 462 | E37: 255 | F37: 456 | G37: 175 | H37: 53
A38: Felsberg | B38: 2843 | C38: 354 | D38: 796 | E38: 489 | F38: 864 | G38: 200 | H38: 140
A39: Flims | B39: 2924 | C39: 684 | D39: 1062 | E39: 438 | F39: 576 | G39: 145 | H39: 19
A40: Tamins | B40: 1219 | C40: 189 | D40: 422 | E40: 186 | F40: 272 | G40: 75 | H40: 75
A41: Trin | B41: 1559 | C41: 238 | D41: 522 | E41: 222 | F41: 416 | G41: 125 | H41: 36
A42: =VLOOKUP("<Zeilentitel_6>",Uebersetzungen!$B$3:$E$100,Uebersetzungen!$B$2+1,FALSE) -> Region Landquart | B42: 26669 | C42: 3991 | D42: 8802 | E42: 4215 | F42: 6508 | G42: 2365 | H42: 788
A43: Trimmis | B43: 3389 | C43: 491 | D43: 1108 | E43: 534 | F43: 920 | G43: 305 | H43: 31
A44: Untervaz | B44: 2647 | C44: 392 | D44: 844 | E44: 462 | F44: 696 | G44: 180 | H44: 73
A45: Zizers | B45: 3783 | C45: 617 | D45: 1284 | E45: 585 | F45: 848 | G45: 320 | H45: 129
A46: Fläsch | B46: 883 | C46: 136 | D46: 330 | E46: 111 | F46: 248 | G46: 40 | H46: 18
A47: Jenins | B47: 975 | C47: 124 | D47: 332 | E47: 159 | F47: 240 | G47: 95 | H47: 25
A48: Maienfeld | B48: 3319 | C48: 553 | D48: 1162 | E48: 528 | F48: 732 | G48: 265 | H48: 79
A49: Malans | B49: 2516 | C49: 312 | D49: 836 | E49: 387 | F49: 644 | G49: 250 | H49: 87
A50: Landquart | B50: 9157 | C50: 1366 | D50: 2906 | E50: 1449 | F50: 2180 | G50: 910 | H50: 346
...

Sheet Uebersetzungen
A1: Tabelle | B1: Code | C1: DE | D1: RM | E1: IT
A2: Sprache | B2: 1
B3: <Fachbereich> | C3: Daten & Statistik | D3: Datas & Statistica | E3: Dati & Statistica
A4: T1 | B4: <Titel> | C4: Privathaushalte in Bündner Gemeinden und Regionen nach Haushaltsgrösse | D4: Chasadas privatas en vischnancas e regiuns dal Grischun tenor lur grondezza da la chasada | E4: Economie domestiche nei comuni e nelle regioni dei Grigioni per dimensione dell'economia domestica
B5: <UTitel> | C5: (Gemeindestand 2025: 100 Gemeinden) | D5: (stadi communal 2025: 100 vischnancas) | E5: (stato dei comuni 2025: 100 comuni)
A7: T1-2 | B7: <SpaltenTitel_1> | C7: Total | D7: Total | E7: Totale
B8: <SpaltenTitel_2> | C8: Anzahl Haushalte mit… | D8: Dumber da chasadas cun… | E8: Numero di economie domestiche con…
B9: <SpaltenTitel_3> | C9: Durchschnittliche Haushaltsgrösse (Anzahl Personen) | D9: Grondezza media da la chasada (dumber da persunas) | E9: Dimensione media delle economie domestiche (numero di persone)
B10: <SpaltenTitel_4> | C10: Anteil der unplausiblen Haushalte (in %)* | D10: Part da las chasadas implausiblas (en %)* | E10: Percentuale di economie domestiche non plausibili (in %)*
B12: <SpaltenTitel_2.1> | C12: 1 Person | D12: 1 persuna | E12: 1 persona
B13: <SpaltenTitel_2.2> | C13: 2 Personen | D13: 2 persunas | E13: 2 persone
B14: <SpaltenTitel_2.3> | C14: 3 Personen | D14: 3 persunas | E14: 3 persone
B15: <SpaltenTitel_2.4> | C15: 4 Personen | D15: 4 persunas | E15: 4 persone
B16: <SpaltenTitel_2.5> | C16: 5 Personen | D16: 5 persunas | E16: 5 persone
B17: <SpaltenTitel_2.6> | C17: 6 oder mehr Personen | D17: 6 u dapli persunas | E17: 6 o più persone
A20: T1 | B20: <Zeilentitel_1> | C20: GRAUBÜNDEN | D20: GRISCHUN | E20: GRIGIONI
B21: <Zeilentitel_2> | C21: Region Albula | D21: Regiun Alvra | E21: Regione Albula
B22: <Zeilentitel_3> | C22: Region Bernina | D22: Regiun Bernina | E22: Regione Bernina
B23: <Zeilentitel_4> | C23: Region Engiadina Bassa/Val Müstair | D23: Regiun Engiadina Bassa/Val Müstair | E23: Regione Engiadina Bassa/Val Müstair
B24: <Zeilentitel_5> | C24: Region Imboden | D24: Regiun Plaun | E24: Regione Imboden
B25: <Zeilentitel_6> | C25: Region Landquart | D25: Regiun Landquart | E25: Regione Landquart
B26: <Zeilentitel_7> | C26: Region Maloja | D26: Regiun Malögia | E26: Regione Maloja
B27: <Zeilentitel_8> | C27: Region Moesa | D27: Regiun Moesa | E27: Regione Moesa
B28: <Zeilentitel_9> | C28: Region Plessur | D28: Regiun Plessur | E28: Regione Plessur
B29: <Zeilentitel_10> | C29: Region Prättigau/Davos | D29: Regiun Partenz/Tavau | E29: Regione Prättigau/Davos
B30: <Zeilentitel_11> | C30: Region Surselva | D30: Regiun Surselva | E30: Regione Surselva
B31: <Zeilentitel_12> | C31: Region Viamala | D31: Regiun Viamala | E31: Regione Viamala
B33: <Legende_1> | C33: Basis: Ständige Wohnbevölkerung am Hauptwohnsitz | D33: Basa: Populaziun residenta permanenta al domicil principal | E33: Base: popolazione residente permanente presso la residenza principale
... B35: <Legende_3> | C35: Q.. Beobachtungsstatus: Fehlender Wert; unterdrückt aus Datenschutzgründen | D35: Q.. Status d'observaziun: Valur mancanta; supprimì per motivs da la protecziun da datas | E35: Q.. Stato di osservazione: Valore mancante; soppresso per motivi di confidenzialità
A37: T1-2 | B37: <Quelle_1> | C37: Quelle: BFS (STATPOP) | D37: Funtauna: UST (STATPOP) | E37: Fonte: UST (STATPOP)
A38: T1 | B38: <Aktualisierung> | C38: Letztmals aktualisiert am: 17.09.2026 | D38: Ultima actualisaziun: 17.09.2026 | E38: Ulimo aggiornamento: 17.09.2026
A41: T2 | B41: <T2Titel> | C41: Ständige Wohnbevölkerung in Privathaushalten nach Haushaltsgrösse | D41: Populaziun residenta permanenta en chasadas privatas tenor lur grondezza da la chasada | E41: Popolazione residente permanente in economie domestiche per dimensione dell'economia domestica
B42: <T2UTitel> | C42: (Gemeindestand 2025: 100 Gemeinden) | D42: (stadi communal 2025: 100 vischnancas) | E42: (stato dei comuni 2025: 100 comuni)
B44: <T2SpaltenTitel_1> | C44: Total | D44: Total | E44: Totale
B45: <T2SpaltenTitel_2> | C45: Anzahl Personen in Haushalten mit… | D45: Dumber da persunas en chasadas cun… | E45: Numero di persone nelle economie domestiche con…
B46: <T2SpaltenTitel_3> | C46: Anteil der Personen in unplausiblen Haushalte (in %)* | D46: Part da las persunas che vivan en chasadas inclausiblas (en %)* | E46: Percentuale di persone che vivono in economie domestiche non plausibili (%)
B47: <T2SpaltenTitel_4>
