Workbook
Name Ursprung: #REF!
Name view: #REF!

Sheet Privathaushalte
A7: =VLOOKUP("<Fachbereich>",Uebersetzungen!$B$3:$E$100,Uebersetzungen!$B$2+1,FALSE) -> Daten & Statistik
A9: =VLOOKUP("<Titel>",Uebersetzungen!$B$3:$E$39,Uebersetzungen!$B$2+1,FALSE) -> Privathaushalte in Bündner Gemeinden und Regionen nach Haushaltsgrösse
A10: =VLOOKUP("<UTitel>",Uebersetzungen!$B$3:$E$100,Uebersetzungen!$B$2+1,FALSE) -> (Gemeindestand 2025: 100 Gemeinden)
B13: 46022
B14: =VLOOKUP("<SpaltenTitel_1>",Uebersetzungen!$B$3:$E$37,Uebersetzungen!$B$2+1,FALSE) -> Total | C14: =VLOOKUP("<SpaltenTitel_2>",Uebersetzungen!$B$3:$E$37,Uebersetzungen!$B$2+1,FALSE) -> Anzahl Haushalte mit… | I14: =VLOOKUP("<SpaltenTitel_3>",Uebersetzungen!$B$3:$E$37,Uebersetzungen!$B$2+1,FALSE) -> Durchschnittliche Haushaltsgrösse (Anzahl Personen)
C15: =VLOOKUP("<SpaltenTitel_2.1>",Uebersetzungen!$B$3:$E$37,Uebersetzungen!$B$2+1,FALSE) -> 1 Person | D15: =VLOOKUP("<SpaltenTitel_2.2>",Uebersetzungen!$B$3:$E$37,Uebersetzungen!$B$2+1,FALSE) -> 2 Personen | E15: =VLOOKUP("<SpaltenTitel_2.3>",Uebersetzungen!$B$3:$E$337,Uebersetzungen!$B$2+1,FALSE) -> 3 Personen | F15: =VLOOKUP("<SpaltenTitel_2.4>",Uebersetzungen!$B$3:$E$337,Uebersetzungen!$B$2+1,FALSE) -> 4 Personen | G15: =VLOOKUP("<SpaltenTitel_2.5>",Uebersetzungen!$B$3:$E$337,Uebersetzungen!$B$2+1,FALSE) -> 5 Personen | H15: =VLOOKUP("<SpaltenTitel_2.6>",Uebersetzungen!$B$3:$E$337,Uebersetzungen!$B$2+1,FALSE) -> 6 oder mehr Personen
A17: =VLOOKUP("<Zeilentitel_1>",Uebersetzungen!$B$3:$E$100,Uebersetzungen!$B$2+1,FALSE) -> GRAUBÜNDEN | B17: 98599 | C17: 39635 | D17: 33074 | E17: 11018 | F17: 10753 | G17: 3221 | H17: 898 | I17: 2.06496
A18: =VLOOKUP("<Zeilentitel_2>",Uebersetzungen!$B$3:$E$100,Uebersetzungen!$B$2+1,FALSE) -> Region Albula | B18: 4050 | C18: 1754 | D18: 1394 | E18: 350 | F18: 395 | G18: 129 | H18: 28 | I18: 1.9740741
A19: Vaz/Obervaz | B19: 1366 | C19: 617 | D19: 437 | E19: 119 | F19: 148 | G19: 38 | H19: 7 | I19: 1.9568082
A20: Lantsch/Lenz | B20: 278 | C20: 136 | D20: 84 | E20: 16 | F20: 35 | G20: 6 | H20: Q .. | I20: 1.8992805
A21: Schmitten (GR) | B21: 113 | C21: 55 | D21: 40 | E21: 7 | F21: 6 | G21: 5 | H21: 0 | I21: 1.8141593
A22: Albula/Alvra | B22: 625 | C22: 251 | D22: 218 | E22: 72 | F22: 56 | G22: 20 | H22: 8 | I22: 2.0448
A23: Surses | B23: 1242 | C23: 528 | D23: 461 | E23: 98 | F23: 108 | G23: 39 | H23: 8 | I23: 1.9508857
A24: Bergün Filisur | B24: 426 | C24: 167 | D24: 154 | E24: 38 | F24: 42 | G24: 21 | H24: 4 | I24: 2.084507
A25: =VLOOKUP("<Zeilentitel_3>",Uebersetzungen!$B$3:$E$100,Uebersetzungen!$B$2+1,FALSE) -> Region Bernina | B25: 1999 | C25: 717 | D25: 619 | E25: 268 | F25: 254 | G25: 111 | H25: 30 | I25: 2.262131
A26: Brusio | B26: 472 | C26: 160 | D26: 150 | E26: 70 | F26: 54 | G26: 26 | H26: 12 | I26: 2.3241525
A27: Poschiavo | B27: 1527 | C27: 557 | D27: 469 | E27: 198 | F27: 200 | G27: 85 | H27: 18 | I27: 2.24296
A28: =VLOOKUP("<Zeilentitel_4>",Uebersetzungen!$B$3:$E$100,Uebersetzungen!$B$2+1,FALSE) -> Region Engiadina Bassa/Val Müstair | B28: 4453 | C28: 1810 | D28: 1523 | E28: 492 | F28: 467 | G28: 127 | H28: 34 | I28: 2.031215
A29: Zernez | B29: 754 | C29: 299 | D29: 261 | E29: 81 | F29: 85 | G29: 21 | H29: 7 | I29: 2.0583553
A30: Samnaun | B30: 388 | C30: 182 | D30: 101 | E30: 56 | F30: 40 | G30: 9 | H30: 0 | I30: 1.951031
A31: Scuol | B31: 2222 | C31: 894 | D31: 764 | E31: 240 | F31: 242 | G31: 69 | H31: 13 | I31: 2.040504
A32: Valsot | B32: 385 | C32: 138 | D32: 139 | E32: 53 | F32: 42 | G32: 8 | H32: 5 | I32: 2.1194806
A33: Val Müstair | B33: 704 | C33: 297 | D33: 258 | E33: 62 | F33: 58 | G33: 20 | H33: 9 | I33: 1.96875
A34: =VLOOKUP("<Zeilentitel_5>",Uebersetzungen!$B$3:$E$100,Uebersetzungen!$B$2+1,FALSE) -> Region Imboden | B34: 9912 | C34: 3401 | D34: 3382 | E34: 1237 | F34: 1416 | G34: 364 | H34: 112 | I34: 2.2262914
A35: Bonaduz | B35: 1591 | C35: 549 | D35: 524 | E35: 189 | F35: 244 | G35: 69 | H35: 16 | I35: 2.2532997
A36: Domat/Ems | B36: 3661 | C36: 1195 | D36: 1226 | E36: 518 | F36: 526 | G36: 151 | H36: 45 | I36: 2.2791586
A37: Rhäzüns | B37: 665 | C37: 192 | D37: 231 | E37: 85 | F37: 114 | G37: 35 | H37: 8 | I37: 2.3954887
A38: Felsberg | B38: 1193 | C38: 354 | D38: 398 | E38: 163 | F38: 216 | G38: 40 | H38: 22 | I38: 2.3830678
A39: Flims | B39: 1537 | C39: 684 | D39: 531 | E39: 146 | F39: 144 | G39: 29 | H39: Q .. | I39: 1.9024073
A40: Tamins | B40: 557 | C40: 189 | D40: 211 | E40: 62 | F40: 68 | G40: 15 | H40: 12 | I40: 2.18851
A41: Trin | B41: 708 | C41: 238 | D41: 261 | E41: 74 | F41: 104 | G41: 25 | H41: 6 | I41: 2.2019775
A42: =VLOOKUP("<Zeilentitel_6>",Uebersetzungen!$B$3:$E$100,Uebersetzungen!$B$2+1,FALSE) -> Region Landquart | B42: 12023 | C42: 3991 | D42: 4401 | E42: 1405 | F42: 1627 | G42: 473 | H42: 126 | I42: 2.2181652
A43: Trimmis | B43: 1519 | C43: 491 | D43: 554 | E43: 178 | F43: 230 | G43: 61 | H43: 5 | I43: 2.2310731
A44: Untervaz | B44: 1190 | C44: 392 | D44: 422 | E44: 154 | F44: 174 | G44: 36 | H44: 12 | I44: 2.2243698
A45: Zizers | B45: 1751 | C45: 617 | D45: 642 | E45: 195 | F45: 212 | G45: 64 | H45: 21 | I45: 2.1604798
A46: Fläsch | B46: 411 | C46: 136 | D46: 165 | E46: 37 | F46: 62 | G46: 8 | H46: Q .. | I46: 2.1484184
A47: Jenins | B47: 426 | C47: 124 | D47: 166 | E47: 53 | F47: 60 | G47: 19 | H47: 4 | I47: 2.2887323
A48: Maienfeld | B48: 1558 | C48: 553 | D48: 581 | E48: 176 | F48: 183 | G48: 53 | H48: 12 | I48: 2.1302953
A49: Malans | B49: 1084 | C49: 312 | D49: 418 | E49: 129 | F49: 161 | G49: 50 | H49: 14 | I49: 2.3210332
A50: Landquart | B50: 4084 | C50: 1366 | D50: 1453 | E50: 483 | F50: 545 | G50: 182 | H50: 55 | I50: 2.2421646
A51: =VLOOKUP("<Zeilentitel_7>",Uebersetzungen!$B$3:$E$100,Uebersetzungen!$B$2+1,FALSE) -> Region Maloja | B51: 9486 | C51: 4461 | D51: 2897 | E51: 1019 | F51: 831 | G51: 224 | H51: 54 | I51: 1.90934
A52: Bever | B52: 311 | C52: 128 | D52: 106 | E52: 34 | F52: 35 | G52: 6 | H52: Q .. | I52: 2.0064309
A53: Celerina/Schlarigna | B53: 724 | C53: 323 | D53: 242 | E53: 78 | F53: 59 | G53: 18 | H53: 4 | I53: 1.9267956
A54: Madulain | B54: 100 | C54: 33 | D54: 43 | E54: 12 | F54: 9 | G54: Q .. | H54: 0 | I54: 2.06
A55: Pontresina | B55: 1064 | C55: 471 | D55: 345 | E55: 130 | F55: 84 | G55: 27 | H55: 7 | I55: 1.9426692
A56: La Punt Chamues-ch | B56: 383 | C56: 166 | D56: 126 | E56: 46 | F56: 31 | G56: 10 | H56: 4 | I56: 1.9765013
A57: Samedan | B57: 1447 | C57: 615 | D57: 464 | E57: 161 | F57: 167 | G57: 33 | H57: 7 | I57: 2.0048375
A58: St. Moritz | B58: 2765 | C58: 1480 | D58: 739 | E58: 286 | F58: 195 | G58: 52 | H58: 13 | I58: 1.7909584
A59: S-chanf | B59: 362 | C59: 160 | D59: 105 | E59: 43 | F59: 38 | G59: 14 | H59: Q .. | I59: 2.0248618
A60: Sils im Engadin/Segl | B60: 360 | C60: 173 | D60: 103 | E60: 40 | F60: 36 | G60: 6 | H60: Q .. | I60: 1.9055556
A61: Silvaplana | B61: 625 | C61: 327 | D61: 186 | E61: 57 | F61: 46 | G61: 7 | H61: Q .. | I61: 1.7616
A62: Zuoz | B62: 572 | C62: 256 | D62: 191 | E62: 49 | F62: 63 | G62: 11 | H62: Q .. | I62: 1.9300699
A63: Bregaglia | B63: 773 | C63: 329 | D63: 247 | E63: 83 | F63: 68 | G63: 37 | H63: 9 | I63: 2.0517464
A64: =VLOOKUP("<Zeilentitel_8>",Uebersetzungen!$B$3:$E$100,Uebersetzungen!$B$2+1,FALSE) -> Region Moesa | B64: 4463 | C64: 1760 | D64: 1414 | E64: 617 | F64: 507 | G64: 135 | H64: 30 | I64: 2.0918665
A65: Buseno | B65: 55 | C65: 29 | D65: 15 | E65: 4 | F65: 4 | G65: Q .. | H65: 0 | I65: 1.8545455
A66: Castaneda | B66: 132 | C66: 59 | D66: 39 | E66: 18 | F66: 15 | G66: Q .. | H66: 0 | I66: 1.939394
A67: Rossa | B67: 96 | C67: 48 | D67: 33 | E67: 6 | F67: 6 | G67: Q .. | H67: 0 | I67: 1.78125
A68: Santa Maria in Calanca | B68: 68 | C68: 35 | D68: 27 | E68: 4 | F68: Q .. | G68: 0 | H68: 0 | I68: 1.6029412
A69: Lostallo | B69: 397 | C69: 132 | D69: 139 | E69: 64 | F69: 54 | G69: 6 | H69: Q .. | I69: 2.1712847
A70: Mesocco | B70: 677 | C70: 276 | D70: 216 | E70: 78 | F70: 79 | G70: 22 | H70: 6 | I70: 2.082718
A71: Soazza | B71: 162 | C71: 75 | D71: 46 | E71: 23 | F71: 10 | G71: 7 | H71: Q .. | I71: 1.9567901
A72: Cama | B72: 346 | C72: 139 | D72: 99 | E72: 53 | F72: 42 | G72: 11 | H72: Q .. | I72: 2.1127167
A73: Grono | B73: 763 | C73: 294 | D73: 246 | E73: 114 | F73: 79 | G73: 22 | H73: 8 | I73: 2.1035388
A74: Roveredo (GR) | B74: 1206 | C74: 445 | D74: 382 | E74: 164 | F74: 160 | G74: 46 | H74: 9 | I74: 2.1782753
A75: San Vittore | B75: 446 | C75: 174 | D75: 133 | E75: 78 | F75: 47 | G75: 12 | H75: Q .. | I75: 2.0964127
A76: Calanca | B76: 115 | C76: 54 | D76: 39 | E76: 11 | F76: 9 | G76: Q .. | H76: 0 | I76: 1.8347826
A77: =VLOOKUP("<Zeilentitel_9>",Uebersetzungen!$B$3:$E$100,Uebersetzungen!$B$2+1,FALSE) -> Region Plessur | B77: 22347 | C77: 9905 | D77: 7211 | E77: 2373 | F77: 2123 | G77: 580 | H77: 155 | I77: 1.9604421
A78: Chur | B78: 19678 | C78: 8615 | D78: 6383 | E78: 2117 | F78: 1909 | G78: 520 | H78: 134 | I78: 1.97205
A79: Churwalden | B79: 962 | C79: 397 | D79: 328 | E79: 109 | F79: 89 | G79: 30 | H79: 9 | I79: 2.018711
A80: Arosa | B80: 1707 | C80: 893 | D80: 500 | E80: 147 | F80: 125 | G80: 30 | H80: 12 | I80: 1.7937902
A81: =VLOOKUP("<Zeilentitel_10>",Uebersetzungen!$B$3:$E$100,Uebersetzungen!$B$2+1,FALSE) -> Region Prättigau/Davos | B81: 12814 | C81: 5234 | D81: 4290 | E81: 1390 | F81: 1342 | G81: 429 | H81: 129 | I81: 2.0527549
A82: Davos | B82: 5372 | C82: 2426 | D82: 1660 | E82: 579 | F82: 543 | G82: 128 | H82: 36 | I82: 1.9583023
A83: Fideris | B83: 279 | C83: 93 | D83: 100 | E83: 36 | F83: 30 | G83: 17 | H83: Q .. | I83: 2.2365592
A84: Furna | B84: 79 | C84: 20 | D84: 30 | E84: 13 | F84: 5 | G84: 7 | H84: 4 | I84: 2.506329
A85: Jenaz | B85: 535 | C85: 181 | D85: 217 | E85: 59 | F85: 52 | G85: 20 | H85: 6 | I85: 2.1233644
A86: Klosters | B86: 2261 | C86: 976 | D86: 768 | E86: 220 | F86: 222 | G86: 63 | H86: 12 | I86: 1.9677134
A87: Conters im Prättigau | B87: 104 | C87: 36 | D87: 37 | E87: 13 | F87: 10 | G87: 5 | H87: Q .. | I87: 2.2596154
A88: Küblis | B88: 449 | C88: 187 | D88: 160 | E88: 45 | F88: 32 | G88: 17 | H88: 8 | I88: 2.0155902
A89: Luzein | B89: 726 | C89: 233 | D89: 278 | E89: 79 | F89: 90 | G89: 37 | H89: 9 | I89: 2.2424242
A90: Grüsch | B90: 1020 | C90: 386 | D90: 359 | E90: 112 | F90: 113 | G90: 40 | H90: 10 | I90: 2.1117647
A91: Schiers | B91: 1337 | C91: 479 | D91: 445 | E91: 162 | F91: 164 | G91: 61 | H91: 26 | I91: 2.2296185
A92: Seewis im Prättigau | B92: 652 | C92: 217 | D92: 236 | E92: 72 | F92: 81 | G92: 34 | H92: 12 | I92: 2.2607362
A93: =VLOOKUP("<Zeilentitel_11>",Uebersetzungen!$B$3:$E$100,Uebersetzungen!$B$2+1,FALSE) -> Region Surselva | B93: 10388 | C93: 4088 | D93: 3683 | E93: 1100 | F93: 1040 | G93: 377 | H93: 100 | I93: 2.0616095
A94: Falera | B94: 306 | C94: 115 | D94: 110 | E94: 29 | F94: 39 | G94: 10 | H94: Q .. | I94: 2.1111112
A95: Laax | B95: 1106 | C95: 510 | D95: 370 | E95: 98 | F95: 94 | G95: 28 | H95: 6 | I95: 1.8951175
A96: Sagogn | B96: 352 | C96: 123 | D96: 129 | E96: 27 | F96: 55 | G96: 17 | H96: Q .. | I96: 2.1960227
A97: Schluein | B97: 300 | C97: 119 | D97: 100 | E97: 44 | F97: 32 | G97: 4 | H97: Q .. | I97: 2.0166667
A98: Vals | B98: 475 | C98: 221 | D98: 146 | E98: 42 | F98: 40 | G98: 23 | H98: Q .. | I98: 1.9726316
A99: Lumnezia | B99: 969 | C99: 365 | D99: 369 | E99: 120 | F99: 72 | G99: 28 | H99: 15 | I99: 2.0474715
A100: Ilanz/Glion | B100: 2388 | C100: 939 | D100: 831 | E100: 254 | F100: 266 | G100: 80 | H100: 18 | I100: 2.0670016
A101: Safiental | B101: 406 | C101: 131 | D101: 140 | E101: 50 | F101: 50 | G101: 26 | H101: 9 | I101: 2.3275862
A102: Breil/Brigels | B102: 799 | C102: 293 | D102: 282 | E102: 100 | F102: 74 | G102: 42 | H102: 8 | I102: 2.1414268
A103: Disentis/Mustér | B103: 994 | C103: 402 | D103: 346 | E103: 99 | F103: 96 | G103: 37 | H103: 14 | I103: 2.057344
A104: Medel (Lucmagn) | B104: 150 | C104: 49 | D104: 61 | E104: 21 | F104: 13 | G104: 4 | H104: Q .. | I104: 2.12
A105: Sumvitg | B105: 479 | C105: 161 | D105: 191 | E105: 53 | F105: 55 | G105: 15 | H105: 4 | I105: 2.1398747
A106: Tujetsch | B106: 574 | C106: 231 | D106: 207 | E106: 54 | F106: 57 | G106: 22 | H106: Q .. | I106: 2.0261323
A107: Trun | B107: 530 | C107: 202 | D107: 195 | E107: 61 | F107: 41 | G107: 23 | H107: 8 | I107: 2.0811322
A108: Obersaxen Mundaun | B108: 560 | C108: 227 | D108: 206 | E108: 48 | F108: 56 | G108: 18 | H108: 5 | I108: 2.0160713
A109: =VLOOKUP("<Zeilentitel_12>",Uebersetzungen!$B$3:$E$100,Uebersetzungen!$B$2+1,FALSE) -> Region Viamala | B109: 6664 | C109: 2514 | D109: 2260 | E109: 767 | F109: 751 | G109: 272 | H109: 100 | I109: 2.14991
A110: Fürstenau | B110: 167 | C110: 67 | D110: 55 | E110: 17 | F110: 21 | G110: 6 | H110: Q .. | I110: 2.0838323
...

Sheet Wohnbevölkerung in Privathaush.
A7: =VLOOKUP("<Fachbereich>",Uebersetzungen!$B$3:$E$100,Uebersetzungen!$B$2+1,FALSE) -> Daten & Statistik
A9: =VLOOKUP("<T2Titel>",Uebersetzungen!$B$3:$E$99,Uebersetzungen!$B$2+1,FALSE) -> Ständige Wohnbevölkerung in Privathaushalten nach Haushaltsgrösse
A10: =VLOOKUP("<T2UTitel>",Uebersetzungen!$B$3:$E$100,Uebersetzungen!$B$2+1,FALSE) -> (Gemeindestand 2025: 100 Gemeinden)
B13: 46022
B14: =VLOOKUP("<T2SpaltenTitel_1>",Uebersetzungen!$B$3:$E$337,Uebersetzungen!$B$2+1,FALSE) -> Total | C14: =VLOOKUP("<T2SpaltenTitel_2>",Uebersetzungen!$B$3:$E$337,Uebersetzungen!$B$2+1,FALSE) -> Anzahl Personen in Haushalten mit…
C15: =VLOOKUP("<SpaltenTitel_2.1>",Uebersetzungen!$B$3:$E$37,Uebersetzungen!$B$2+1,FALSE) -> 1 Person | D15: =VLOOKUP("<SpaltenTitel_2.2>",Uebersetzungen!$B$3:$E$37,Uebersetzungen!$B$2+1,FALSE) -> 2 Personen | E15: =VLOOKUP("<SpaltenTitel_2.3>",Uebersetzungen!$B$3:$E$337,Uebersetzungen!$B$2+1,FALSE) -> 3 Personen | F15: =VLOOKUP("<SpaltenTitel_2.4>",Uebersetzungen!$B$3:$E$337,Uebersetzungen!$B$2+1,FALSE) -> 4 Personen | G15: =VLOOKUP("<SpaltenTitel_2.5>",Uebersetzungen!$B$3:$E$337,Uebersetzungen!$B$2+1,FALSE) -> 5 Personen | H15: =VLOOKUP("<SpaltenTitel_2.6>",Uebersetzungen!$B$3:$E$337,Uebersetzungen!$B$2+1,FALSE) -> 6 oder mehr Personen
A17: =VLOOKUP("<Zeilentitel_1>",Uebersetzungen!$B$3:$E$100,Uebersetzungen!$B$2+1,FALSE) -> GRAUBÜNDEN | B17: 203603 | C17: 39635 | D17: 66148 | E17: 33054 | F17: 43012 | G17: 16105 | H17: 5649
A18: =VLOOKUP("<Zeilentitel_2>",Uebersetzungen!$B$3:$E$100,Uebersetzungen!$B$2+1,FALSE) -> Region Albula | B18: 7995 | C18: 1754 | D18: 2788 | E18: 1050 | F18: 1580 | G18: 645 | H18: 178
A19: Vaz/Obervaz | B19: 2673 | C19: 617 | D19: 874 | E19: 357 | F19: 592 | G19: 190 | H19: 43
A20: Lantsch/Lenz | B20: 528 | C20: 136 | D20: 168 | E20: 48 | F20: 140 | G20: 30 | H20: 6
A21: Schmitten (GR) | B21: 205 | C21: 55 | D21: 80 | E21: 21 | F21: 24 | G21: 25 | H21: 0
A22: Albula/Alvra | B22: 1278 | C22: 251 | D22: 436 | E22: 216 | F22: 224 | G22: 100 | H22: 51
A23: Surses | B23: 2423 | C23: 528 | D23: 922 | E23: 294 | F23: 432 | G23: 195 | H23: 52
A24: Bergün Filisur | B24: 888 | C24: 167 | D24: 308 | E24: 114 | F24: 168 | G24: 105 | H24: 26
A25: =VLOOKUP("<Zeilentitel_3>",Uebersetzungen!$B$3:$E$100,Uebersetzungen!$B$2+1,FALSE) -> Region Bernina | B25: 4522 | C25: 717 | D25: 1238 | E25: 804 | F25: 1016 | G25: 555 | H25: 192
A26: Brusio | B26: 1097 | C26: 160 | D26: 300 | E26: 210 | F26: 216 | G26: 130 | H26: 81
A27: Poschiavo | B27: 3425 | C27: 557 | D27: 938 | E27: 594 | F27: 800 | G27: 425 | H27: 111
A28: =VLOOKUP("<Zeilentitel_4>",Uebersetzungen!$B$3:$E$100,Uebersetzungen!$B$2+1,FALSE) -> Region Engiadina Bassa/Val Müstair | B28: 9045 | C28: 1810 | D28: 3046 | E28: 1476 | F28: 1868 | G28: 635 | H28: 210
A29: Zernez | B29: 1552 | C29: 299 | D29: 522 | E29: 243 | F29: 340 | G29: 105 | H29: 43
A30: Samnaun | B30: 757 | C30: 182 | D30: 202 | E30: 168 | F30: 160 | G30: 45 | H30: 0
A31: Scuol | B31: 4534 | C31: 894 | D31: 1528 | E31: 720 | F31: 968 | G31: 345 | H31: 79
A32: Valsot | B32: 816 | C32: 138 | D32: 278 | E32: 159 | F32: 168 | G32: 40 | H32: 33
A33: Val Müstair | B33: 1386 | C33: 297 | D33: 516 | E33: 186 | F33: 232 | G33: 100 | H33: 55
A34: =VLOOKUP("<Zeilentitel_5>",Uebersetzungen!$B$3:$E$100,Uebersetzungen!$B$2+1,FALSE) -> Region Imboden | B34: 22067 | C34: 3401 | D34: 6764 | E34: 3711 | F34: 5664 | G34: 1820 | H34: 707
A35: Bonaduz | B35: 3585 | C35: 549 | D35: 1048 | E35: 567 | F35: 976 | G35: 345 | H35: 100
A36: Domat/Ems | B36: 8344 | C36: 1195 | D36: 2452 | E36: 1554 | F36: 2104 | G36: 755 | H36: 284
A37: Rhäzüns | B37: 1593 | C37: 192 | D37: 462 | E37: 255 | F37: 456 | G37: 175 | H37: 53
A38: Felsberg | B38: 2843 | C38: 354 | D38: 796 | E38: 489 | F38: 864 | G38: 200 | H38: 140
A39: Flims | B39: 2924 | C39: 684 | D39: 1062 | E39: 438 | F39: 576 | G39: 145 | H39: 19
A40: Tamins | B40: 1219 | C40: 189 | D40: 422 | E40: 186 | F40: 272 | G40: 75 | H40: 75
A41: Trin | B41: 1559 | C41: 238 | D41: 522 | E41: 222 | F41: 416 | G41: 125 | H41: 36
A42: =VLOOKUP("<Zeilentitel_6>",Uebersetzungen!$B$3:$E$100,Uebersetzungen!$B$2+1,FALSE) -> Region Landquart | B42: 26669 | C42: 3991 | D42: 8802 | E42: 4215 | F42: 6508 | G42: 2365 | H42: 788
A43: Trimmis | B43: 3389 | C43: 491 | D43: 1108 | E43: 534 | F43: 920 | G43: 305 | H43: 31
A44: Untervaz | B44: 2647 | C44: 392 | D44: 844 | E44: 462 | F44: 696 | G44: 180 | H44: 73
A45: Zizers | B45: 3783 | C45: 617 | D45: 1284 | E45: 585 | F45: 848 | G45: 320 | H45: 129
A46: Fläsch | B46: 883 | C46: 136 | D46: 330 | E46: 111 | F46: 248 | G46: 40 | H46: 18
A47: Jenins | B47: 975 | C47: 124 | D47: 332 | E47: 159 | F47: 240 | G47: 95 | H47: 25
A48: Maienfeld | B48: 3319 | C48: 553 | D48: 1162 | E48: 528 | F48: 732 | G48: 265 | H48: 79
A49: Malans | B49: 2516 | C49: 312 | D49: 836 | E49: 387 | F49: 644 | G49: 250 | H49: 87
A50: Landquart | B50: 9157 | C50: 1366 | D50: 2906 | E50: 1449 | F50: 2180 | G50: 910 | H50: 346
A51: =VLOOKUP("<Zeilentitel_7>",Uebersetzungen!$B$3:$E$100,Uebersetzungen!$B$2+1,FALSE) -> Region Maloja | B51: 18112 | C51: 4461 | D51: 5794 | E51: 3057 | F51: 3324 | G51: 1120 | H51: 356
A52: Bever | B52: 624 | C52: 128 | D52: 212 | E52: 102 | F52: 140 | G52: 30 | H52: 12
A53: Celerina/Schlarigna | B53: 1395 | C53: 323 | D53: 484 | E53: 234 | F53: 236 | G53: 90 | H53: 28
A54: Madulain | B54: 206 | C54: 33 | D54: 86 | E54: 36 | F54: 36 | G54: 15 | H54: 0
A55: Pontresina | B55: 2067 | C55: 471 | D55: 690 | E55: 390 | F55: 336 | G55: 135 | H55: 45
A56: La Punt Chamues-ch | B56: 757 | C56: 166 | D56: 252 | E56: 138 | F56: 124 | G56: 50 | H56: 27
A57: Samedan | B57: 2901 | C57: 615 | D57: 928 | E57: 483 | F57: 668 | G57: 165 | H57: 42
A58: St. Moritz | B58: 4952 | C58: 1480 | D58: 1478 | E58: 858 | F58: 780 | G58: 260 | H58: 96
A59: S-chanf | B59: 733 | C59: 160 | D59: 210 | E59: 129 | F59: 152 | G59: 70 | H59: 12
A60: Sils im Engadin/Segl | B60: 686 | C60: 173 | D60: 206 | E60: 120 | F60: 144 | G60: 30 | H60: 13
A61: Silvaplana | B61: 1101 | C61: 327 | D61: 372 | E61: 171 | F61: 184 | G61: 35 | H61: 12
A62: Zuoz | B62: 1104 | C62: 256 | D62: 382 | E62: 147 | F62: 252 | G62: 55 | H62: 12
A63: Bregaglia | B63: 1586 | C63: 329 | D63: 494 | E63: 249 | F63: 272 | G63: 185 | H63: 57
A64: =VLOOKUP("<Zeilentitel_8>",Uebersetzungen!$B$3:$E$100,Uebersetzungen!$B$2+1,FALSE) -> Region Moesa | B64: 9336 | C64: 1760 | D64: 2828 | E64: 1851 | F64: 2028 | G64: 675 | H64: 194
A65: Buseno | B65: 102 | C65: 29 | D65: 30 | E65: 12 | F65: 16 | G65: 15 | H65: 0
A66: Castaneda | B66: 256 | C66: 59 | D66: 78 | E66: 54 | F66: 60 | G66: 5 | H66: 0
A67: Rossa | B67: 171 | C67: 48 | D67: 66 | E67: 18 | F67: 24 | G67: 15 | H67: 0
A68: Santa Maria in Calanca | B68: 109 | C68: 35 | D68: 54 | E68: 12 | F68: 8 | G68: 0 | H68: 0
A69: Lostallo | B69: 862 | C69: 132 | D69: 278 | E69: 192 | F69: 216 | G69: 30 | H69: 14
A70: Mesocco | B70: 1410 | C70: 276 | D70: 432 | E70: 234 | F70: 316 | G70: 110 | H70: 42
A71: Soazza | B71: 317 | C71: 75 | D71: 92 | E71: 69 | F71: 40 | G71: 35 | H71: 6
A72: Cama | B72: 731 | C72: 139 | D72: 198 | E72: 159 | F72: 168 | G72: 55 | H72: 12
A73: Grono | B73: 1605 | C73: 294 | D73: 492 | E73: 342 | F73: 316 | G73: 110 | H73: 51
A74: Roveredo (GR) | B74: 2627 | C74: 445 | D74: 764 | E74: 492 | F74: 640 | G74: 230 | H74: 56
A75: San Vittore | B75: 935 | C75: 174 | D75: 266 | E75: 234 | F75: 188 | G75: 60 | H75: 13
A76: Calanca | B76: 211 | C76: 54 | D76: 78 | E76: 33 | F76: 36 | G76: 10 | H76: 0
A77: =VLOOKUP("<Zeilentitel_9>",Uebersetzungen!$B$3:$E$100,Uebersetzungen!$B$2+1,FALSE) -> Region Plessur | B77: 43810 | C77: 9905 | D77: 14422 | E77: 7119 | F77: 8492 | G77: 2900 | H77: 972
A78: Chur | B78: 38806 | C78: 8615 | D78: 12766 | E78: 6351 | F78: 7636 | G78: 2600 | H78: 838
A79: Churwalden | B79: 1942 | C79: 397 | D79: 656 | E79: 327 | F79: 356 | G79: 150 | H79: 56
A80: Arosa | B80: 3062 | C80: 893 | D80: 1000 | E80: 441 | F80: 500 | G80: 150 | H80: 78
A81: =VLOOKUP("<Zeilentitel_10>",Uebersetzungen!$B$3:$E$100,Uebersetzungen!$B$2+1,FALSE) -> Region Prättigau/Davos | B81: 26304 | C81: 5234 | D81: 8580 | E81: 4170 | F81: 5368 | G81: 2145 | H81: 807
A82: Davos | B82: 10520 | C82: 2426 | D82: 3320 | E82: 1737 | F82: 2172 | G82: 640 | H82: 225
A83: Fideris | B83: 624 | C83: 93 | D83: 200 | E83: 108 | F83: 120 | G83: 85 | H83: 18
A84: Furna | B84: 198 | C84: 20 | D84: 60 | E84: 39 | F84: 20 | G84: 35 | H84: 24
A85: Jenaz | B85: 1136 | C85: 181 | D85: 434 | E85: 177 | F85: 208 | G85: 100 | H85: 36
A86: Klosters | B86: 4449 | C86: 976 | D86: 1536 | E86: 660 | F86: 888 | G86: 315 | H86: 74
A87: Conters im Prättigau | B87: 235 | C87: 36 | D87: 74 | E87: 39 | F87: 40 | G87: 25 | H87: 21
A88: Küblis | B88: 905 | C88: 187 | D88: 320 | E88: 135 | F88: 128 | G88: 85 | H88: 50
A89: Luzein | B89: 1628 | C89: 233 | D89: 556 | E89: 237 | F89: 360 | G89: 185 | H89: 57
A90: Grüsch | B90: 2154 | C90: 386 | D90: 718 | E90: 336 | F90: 452 | G90: 200 | H90: 62
A91: Schiers | B91: 2981 | C91: 479 | D91: 890 | E91: 486 | F91: 656 | G91: 305 | H91: 165
A92: Seewis im Prättigau | B92: 1474 | C92: 217 | D92: 472 | E92: 216 | F92: 324 | G92: 170 | H92: 75
A93: =VLOOKUP("<Zeilentitel_11>",Uebersetzungen!$B$3:$E$100,Uebersetzungen!$B$2+1,FALSE) -> Region Surselva | B93: 21416 | C93: 4088 | D93: 7366 | E93: 3300 | F93: 4160 | G93: 1885 | H93: 617
A94: Falera | B94: 646 | C94: 115 | D94: 220 | E94: 87 | F94: 156 | G94: 50 | H94: 18
A95: Laax | B95: 2096 | C95: 510 | D95: 740 | E95: 294 | F95: 376 | G95: 140 | H95: 36
A96: Sagogn | B96: 773 | C96: 123 | D96: 258 | E96: 81 | F96: 220 | G96: 85 | H96: 6
A97: Schluein | B97: 605 | C97: 119 | D97: 200 | E97: 132 | F97: 128 | G97: 20 | H97: 6
A98: Vals | B98: 937 | C98: 221 | D98: 292 | E98: 126 | F98: 160 | G98: 115 | H98: 23
A99: Lumnezia | B99: 1984 | C99: 365 | D99: 738 | E99: 360 | F99: 288 | G99: 140 | H99: 93
A100: Ilanz/Glion | B100: 4936 | C100: 939 | D100: 1662 | E100: 762 | F100: 1064 | G100: 400 | H100: 109
A101: Safiental | B101: 945 | C101: 131 | D101: 280 | E101: 150 | F101: 200 | G101: 130 | H101: 54
A102: Breil/Brigels | B102: 1711 | C102: 293 | D102: 564 | E102: 300 | F102: 296 | G102: 210 | H102: 48
A103: Disentis/Mustér | B103: 2045 | C103: 402 | D103: 692 | E103: 297 | F103: 384 | G103: 185 | H103: 85
A104: Medel (Lucmagn) | B104: 318 | C104: 49 | D104: 122 | E104: 63 | F104: 52 | G104: 20 | H104: 12
A105: Sumvitg | B105: 1025 | C105: 161 | D105: 382 | E105: 159 | F105: 220 | G105: 75 | H105: 28
... A108: Obersaxen Mundaun | B108: 1129 | C108: 227 | D108: 412 | E108: 144 | F108: 224 | G108: 90 | H108: 32
A109: =VLOOKUP("<Zeilentitel_12>",Uebersetzungen!$B$3:$E$100,Uebersetzungen!$B$2+1,FALSE) -> Region Viamala | B109: 14327 | C109: 2514 | D109: 4520 | E109: 2301 | F109: 3004 | G109: 1360 | H109: 628
A110: Fürstenau | B110: 348 | C110: 67 | D110: 110 | E110: 51 | F110: 84 | G110: 30 | H110: 6
A111: Rothenbrunnen | B111: 329 | C111: 49 | D111: 100 | E111: 36 | F111: 80 | G111: 40 | H111: 24
A112: Scharans | B112: 839 | C112: 140 | D112: 232 | E112: 129 | F112: 184 | G112: 135 | H112: 19
...

Sheet Uebersetzungen
A1: Tabelle | B1: Code | C1: DE | D1: RM | E1: IT
A2: Sprache | B2: 1
B3: <Fachbereich> | C3: Daten & Statistik | D3: Datas & Statistica | E3: Dati & Statistica
A4: T1 | B4: <Titel> | C4: Privathaushalte in Bündner Gemeinden und Regionen nach Haushaltsgrösse | D4: Chasadas privatas en vischnancas e regiuns dal Grischun tenor lur grondezza da la chasada | E4: Economie domestiche nei comuni e nelle regioni dei Grigioni per dimensione dell'economia domestica
B5: <UTitel> | C5: (Gemeindestand 2025: 100 Gemeinden) | D5: (stadi communal 2025: 100 vischnancas) | E5: (stato dei comuni 2025: 100 comuni)
A7: T1-2 | B7: <SpaltenTitel_1> | C7: Total | D7: Total | E7: Totale
B8: <SpaltenTitel_2> | C8: Anzahl Haushalte mit… | D8: Dumber da chasadas cun… | E8: Numero di economie domestiche con…
B9: <SpaltenTitel_3> | C9: Durchschnittliche Haushaltsgrösse (Anzahl Personen) | D9: Grondezza media da la chasada (dumber da persunas) | E9: Dimensione media delle economie domestiche (numero di persone)
B10: <SpaltenTitel_4> | C10: Anteil der unplausiblen Haushalte (in %)* | D10: Part da las chasadas implausiblas (en %)* | E10: Percentuale di economie domestiche non plausibili (in %)*
B12: <SpaltenTitel_2.1> | C12: 1 Person | D12: 1 persuna | E12: 1 persona
B13: <SpaltenTitel_2.2> | C13: 2 Personen | D13: 2 persunas | E13: 2 persone
B14: <SpaltenTitel_2.3> | C14: 3 Personen | D14: 3 persunas | E14: 3 persone
B15: <SpaltenTitel_2.4> | C15: 4 Personen | D15: 4 persunas | E15: 4 persone
B16: <SpaltenTitel_2.5> | C16: 5 Personen | D16: 5 persunas | E16: 5 persone
B17: <SpaltenTitel_2.6> | C17: 6 oder mehr Personen | D17: 6 u dapli persunas | E17: 6 o più persone
A20: T1 | B20: <Zeilentitel_1> | C20: GRAUBÜNDEN | D20: GRISCHUN | E20: GRIGIONI
B21: <Zeilentitel_2> | C21: Region Albula | D21: Regiun Alvra | E21: Regione Albula
B22: <Zeilentitel_3> | C22: Region Bernina | D22: Regiun Bernina | E22: Regione Bernina
B23: <Zeilentitel_4> | C23: Region Engiadina Bassa/Val Müstair | D23: Regiun Engiadina Bassa/Val Müstair | E23: Regione Engiadina Bassa/Val Müstair
B24: <Zeilentitel_5> | C24: Region Imboden | D24: Regiun Plaun | E24: Regione Imboden
B25: <Zeilentitel_6> | C25: Region Landquart | D25: Regiun Landquart | E25: Regione Landquart
B26: <Zeilentitel_7> | C26: Region Maloja | D26: Regiun Malögia | E26: Regione Maloja
B27: <Zeilentitel_8> | C27: Region Moesa | D27: Regiun Moesa | E27: Regione Moesa
B28: <Zeilentitel_9> | C28: Region Plessur | D28: Regiun Plessur | E28: Regione Plessur
B29: <Zeilentitel_10> | C29: Region Prättigau/Davos | D29: Regiun Partenz/Tavau | E29: Regione Prättigau/Davos
B30: <Zeilentitel_11> | C30: Region Surselva | D30: Regiun Surselva | E30: Regione Surselva
B31: <Zeilentitel_12> | C31: Region Viamala | D31: Regiun Viamala | E31: Regione Viamala
B33: <Legende_1> | C33: Basis: Ständige Wohnbevölkerung am Hauptwohnsitz | D33: Basa: Populaziun residenta permanenta al domicil principal | E33: Base: popolazione residente permanente presso la residenza principale
... B35: <Legende_3> | C35: Q.. Beobachtungsstatus: Fehlender Wert; unterdrückt aus Datenschutzgründen | D35: Q.. Status d'observaziun: Valur mancanta; supprimì per motivs da la protecziun da datas | E35: Q.. Stato di osservazione: Valore mancante; soppresso per motivi di confidenzialità
A37: T1-2 | B37: <Quelle_1> | C37: Quelle: BFS (STATPOP) | D37: Funtauna: UST (STATPOP) | E37: Fonte: UST (STATPOP)
A38: T1 | B38: <Aktualisierung> | C38: Letztmals aktualisiert am: 17.09.2026 | D38: Ultima actualisaziun: 17.09.2026 | E38: Ulimo aggiornamento: 17.09.2026
A41: T2 | B41: <T2Titel> | C41: Ständige Wohnbevölkerung in Privathaushalten nach Haushaltsgrösse | D41: Populaziun residenta permanenta en chasadas privatas tenor lur grondezza da la chasada | E41: Popolazione residente permanente in economie domestiche per dimensione dell'economia domestica
B42: <T2UTitel> | C42: (Gemeindestand 2025: 100 Gemeinden) | D42: (stadi communal 2025: 100 vischnancas) | E42: (stato dei comuni 2025: 100 comuni)
B44: <T2SpaltenTitel_1> | C44: Total | D44: Total | E44: Totale
B45: <T2SpaltenTitel_2> | C45: Anzahl Personen in Haushalten mit… | D45: Dumber da persunas en chasadas cun… | E45: Numero di persone nelle economie domestiche con…
B46: <T2SpaltenTitel_3> | C46: Anteil der Personen in unplausiblen Haushalte (in %)* | D46: Part da las persunas che vivan en chasadas inclausiblas (en %)* | E46: Percentuale di persone che vivono in economie domestiche non plausibili (%)
B47: <T2SpaltenTitel_4>
